BEGIN:VCALENDAR
VERSION:2.0
PRODID:-//School of Public Health and Family Medicine - ECPv4.1.0.1//NONSGML v1.0//EN
CALSCALE:GREGORIAN
METHOD:PUBLISH
X-WR-CALNAME:School of Public Health and Family Medicine
X-ORIGINAL-URL:http://sphfm.medcol.mw
X-WR-CALDESC:Events for School of Public Health and Family Medicine
BEGIN:VEVENT
DTSTART;VALUE=DATE:20170424
DTEND;VALUE=DATE:20170430
DTSTAMP:20191118T014753
CREATED:20160704
LAST-MODIFIED:20160704
UID:13446-1492992000-1493596799@sphfm.medcol.mw
SUMMARY:MPH 618: Resource allocation in Health Care
DESCRIPTION:MPH 618: Resource allocation in Health Care  \nThom Chisale (Module convener) + Chris Makwero )  \n
URL:http://sphfm.medcol.mw/event/mph-618-resource-allocation-health-care/
CATEGORIES:2015/2016 Intake (Year 2),Academic Calendar,MPH
END:VEVENT
END:VCALENDAR