BEGIN:VCALENDAR
VERSION:2.0
PRODID:-//School of Public Health and Family Medicine - ECPv4.1.0.1//NONSGML v1.0//EN
CALSCALE:GREGORIAN
METHOD:PUBLISH
X-WR-CALNAME:School of Public Health and Family Medicine
X-ORIGINAL-URL:http://sphfm.medcol.mw
X-WR-CALDESC:Events for School of Public Health and Family Medicine
BEGIN:VEVENT
DTSTART;VALUE=DATE:20170220
DTEND;VALUE=DATE:20170226
DTSTAMP:20191118T015041
CREATED:20160619
LAST-MODIFIED:20160619
UID:13421-1487548800-1488153599@sphfm.medcol.mw
SUMMARY:MPH647 TB
DESCRIPTION:MPH647 TB (Dr Mpunga) Lilongwe\n
URL:http://sphfm.medcol.mw/event/mph647-tb/
CATEGORIES:2015/2016 Intake (Year 2),Academic Calendar,MPH
END:VEVENT
END:VCALENDAR