BEGIN:VCALENDAR
VERSION:2.0
PRODID:-//School of Public Health and Family Medicine - ECPv4.1.0.1//NONSGML v1.0//EN
CALSCALE:GREGORIAN
METHOD:PUBLISH
X-WR-CALNAME:School of Public Health and Family Medicine
X-ORIGINAL-URL:http://sphfm.medcol.mw
X-WR-CALDESC:Events for School of Public Health and Family Medicine
BEGIN:VEVENT
DTSTART;VALUE=DATE:20170227
DTEND;VALUE=DATE:20170305
DTSTAMP:20191118T015045
CREATED:20160619
LAST-MODIFIED:20160619
UID:13430-1488153600-1488758399@sphfm.medcol.mw
SUMMARY:Previous core module exams
DESCRIPTION:Thursday March 2: previous core module exams
URL:http://sphfm.medcol.mw/event/previous-core-module-exams-4/
CATEGORIES:2016/2017 Intake (Year 1),Academic Calendar,MPH
END:VEVENT
END:VCALENDAR