BEGIN:VCALENDAR
VERSION:2.0
PRODID:-//School of Public Health and Family Medicine - ECPv4.1.0.1//NONSGML v1.0//EN
CALSCALE:GREGORIAN
METHOD:PUBLISH
X-WR-CALNAME:School of Public Health and Family Medicine
X-ORIGINAL-URL:http://sphfm.medcol.mw
X-WR-CALDESC:Events for School of Public Health and Family Medicine
BEGIN:VEVENT
DTSTART;VALUE=DATE:20170306
DTEND;VALUE=DATE:20170312
DTSTAMP:20191118T015051
CREATED:20160619
LAST-MODIFIED:20160619
UID:13432-1488758400-1489363199@sphfm.medcol.mw
SUMMARY:Scientific writing
DESCRIPTION:Scientific writing (Prof Rob Moodie)\n
URL:http://sphfm.medcol.mw/event/scientific-writing-2/
CATEGORIES:2016/2017 Intake (Year 1),Academic Calendar,MPH
END:VEVENT
END:VCALENDAR